BEGIN:VCALENDAR
VERSION:2.0
PRODID:-//ChamberMaster//Event Calendar 2.0//EN
METHOD:PUBLISH
X-PUBLISHED-TTL:P3D
REFRESH-INTERVAL:P3D
CALSCALE:GREGORIAN
BEGIN:VEVENT
DTSTART:20170810T220000Z
DTEND:20170811T000000Z
X-MICROSOFT-CDO-ALLDAYEVENT:FALSE
SUMMARY:Business After Hours Networking Mixer - Sponsored by UnitedSA
DESCRIPTION:Cool off from the summer heat and join us at United SA Credit Union for a cool\, networking mixer.
X-ALT-DESC;FMTTYPE=text/html:Cool off from the summer heat and join us at United SA Credit Union for a cool\, networking mixer.
LOCATION:United SA Credit Union 1440 S Main St.\, Boerne\, Tx 78006
UID:e.187.11517
SEQUENCE:3
DTSTAMP:20260422T231639Z
URL:https://business.boerne.org/events/details/business-after-hours-networking-mixer-sponsored-by-unitedsa-11517
END:VEVENT

END:VCALENDAR
