BEGIN:VCALENDAR
VERSION:2.0
PRODID:-//ChamberMaster//Event Calendar 2.0//EN
METHOD:PUBLISH
X-PUBLISHED-TTL:P3D
REFRESH-INTERVAL:P3D
CALSCALE:GREGORIAN
BEGIN:VEVENT
DTSTART:20170713T220000Z
DTEND:20170714T000000Z
X-MICROSOFT-CDO-ALLDAYEVENT:FALSE
SUMMARY:Business After Hours Mixer sponsored by Kronkosky Place and River City Hospice
DESCRIPTION:Come mix and mingle with your fellow Chamber Members at the Business After Hours Mixer sponsored by Kronkosky Place- Rainbows Senior Center (link) and River City Hospice
X-ALT-DESC;FMTTYPE=text/html:Come mix and mingle with your fellow Chamber Members at the Business After Hours Mixer sponsored by Kronkosky Place- Rainbows Senior Center <a href="http://www.rainbowseniorcenter.com/">(link)</a>&nbsp\;and River City Hospice
LOCATION:Kronkosky Place- Rainbows Senior Center (map) 17 Old San Antonio Rd. Boerne\, TX 78006
UID:e.187.11400
SEQUENCE:3
DTSTAMP:20260423T010136Z
URL:https://business.boerne.org/events/details/business-after-hours-mixer-sponsored-by-kronkosky-place-and-river-city-hospice-11400
END:VEVENT

END:VCALENDAR
