BEGIN:VCALENDAR
VERSION:2.0
PRODID:-//ChamberMaster//Event Calendar 2.0//EN
METHOD:PUBLISH
X-PUBLISHED-TTL:P3D
REFRESH-INTERVAL:P3D
CALSCALE:GREGORIAN
BEGIN:VEVENT
DTSTART:20170525T220000Z
DTEND:20170526T000000Z
X-MICROSOFT-CDO-ALLDAYEVENT:FALSE
SUMMARY:Business After Hours Mixer Sponsored by City of Boerne Patrick Heath Library
DESCRIPTION:Come Mix and Mingle with your fellow Chamber Members at a Business After Hours Mixer sponsored by Patrick Heath Library (link)
X-ALT-DESC;FMTTYPE=text/html:Come Mix and Mingle with your fellow Chamber Members at a Business After Hours Mixer sponsored by Patrick Heath Library <a href="http://www.ci.boerne.tx.us/197/Library">(link)</a>
LOCATION:Patrick Heath Public Library (map) 451 N Main St #100 Boerne\, TX 78006
UID:e.187.9491
SEQUENCE:3
DTSTAMP:20260423T041159Z
URL:https://business.boerne.org/events/details/business-after-hours-mixer-sponsored-by-city-of-boerne-patrick-heath-library-05-25-2017-9491
END:VEVENT

END:VCALENDAR
