BEGIN:VCALENDAR
VERSION:2.0
PRODID:-//ChamberMaster//Event Calendar 2.0//EN
METHOD:PUBLISH
X-PUBLISHED-TTL:P3D
REFRESH-INTERVAL:P3D
CALSCALE:GREGORIAN
BEGIN:VEVENT
DTSTART:20170323T220000Z
DTEND:20170324T000000Z
X-MICROSOFT-CDO-ALLDAYEVENT:FALSE
SUMMARY:Business After Hours Mixer Sponsored by Cibolo Creek Health & Rehab
DESCRIPTION:Come mix and mingle with  your fellow Chamber Members for the Business After Hours Mixer sponsored by Cibolo Creek Health & Rehab (link)
X-ALT-DESC;FMTTYPE=text/html:Come mix and mingle with&nbsp\; your fellow Chamber Members for the Business After Hours Mixer sponsored by Cibolo Creek Health &amp\; Rehab <a href="http://cascadehealthservices.org/cibolo-creek/">(link)</a>
LOCATION:Cibolo Creek Health & Rehabilitation (map) 1440 River Rd. Boerne\, TX 78006
UID:e.187.9489
SEQUENCE:3
DTSTAMP:20260423T071906Z
URL:https://business.boerne.org/events/details/business-after-hours-mixer-sponsored-by-cibolo-creek-health-rehab-03-23-2017-9489
END:VEVENT

END:VCALENDAR
