BEGIN:VCALENDAR
VERSION:2.0
PRODID:-//ChamberMaster//Event Calendar 2.0//EN
METHOD:PUBLISH
X-PUBLISHED-TTL:P3D
REFRESH-INTERVAL:P3D
CALSCALE:GREGORIAN
BEGIN:VEVENT
DTSTART:20170928T220000Z
DTEND:20170929T000000Z
X-MICROSOFT-CDO-ALLDAYEVENT:FALSE
SUMMARY:Business After Hours Mixer sponsored by Belden's Automotive & Tires
DESCRIPTION:Come mix and mingle with your fellow Chamber Members at a Business After Hours Mixer sponsored by Belden's Automotive & Tires (link)
X-ALT-DESC;FMTTYPE=text/html:Come mix and mingle with your fellow Chamber Members at a Business After Hours Mixer sponsored by Belden&#39\;s Automotive &amp\; Tires <a href="http://www.beldensautomotive.com/">(link)</a>
LOCATION:Belden's Automotive & Tires (map) 29137 West Interstate 10 Boerne\, TX 78006
UID:e.187.10563
SEQUENCE:3
DTSTAMP:20260422T213603Z
URL:https://business.boerne.org/events/details/business-after-hours-mixer-sponsored-by-belden-s-automotive-tires-09-28-2017-10563
END:VEVENT

END:VCALENDAR
