BEGIN:VCALENDAR
VERSION:2.0
PRODID:-//ChamberMaster//Event Calendar 2.0//EN
METHOD:PUBLISH
X-PUBLISHED-TTL:P3D
REFRESH-INTERVAL:P3D
CALSCALE:GREGORIAN
BEGIN:VEVENT
DTSTART:20180802T220000Z
DTEND:20180803T000000Z
X-MICROSOFT-CDO-ALLDAYEVENT:FALSE
SUMMARY:Business After Hours Mixer Seven Oaks Professional Center
DESCRIPTION:Come join for Business After Hours Mixer sponsored by Seven Oaks Professional Center.
X-ALT-DESC;FMTTYPE=text/html:Come join for Business After Hours Mixer sponsored by Seven Oaks Professional Center.
LOCATION:Seven Oaks Professional Center (map) 138 Old San Antonio Rd. Boerne\, TX 78006
UID:e.187.13943
SEQUENCE:3
DTSTAMP:20260420T043008Z
URL:https://business.boerne.org/events/details/business-after-hours-mixer-seven-oaks-professional-center-13943
END:VEVENT

END:VCALENDAR
