BEGIN:VCALENDAR
VERSION:2.0
PRODID:-//ChamberMaster//Event Calendar 2.0//EN
METHOD:PUBLISH
X-PUBLISHED-TTL:P3D
REFRESH-INTERVAL:P3D
CALSCALE:GREGORIAN
BEGIN:VEVENT
DTSTART:20170511T220000Z
DTEND:20170512T000000Z
X-MICROSOFT-CDO-ALLDAYEVENT:FALSE
SUMMARY:Business After Hours Mixer - Belleori Homestead
DESCRIPTION:Come mix and mingle and make new contacts at our popular Business After Hours Mixer event - at the Belleori Homestead. For more information - visit the Belleori Homestead website
X-ALT-DESC;FMTTYPE=text/html:Come mix and mingle and make new contacts at our popular Business After Hours Mixer event - at the Belleori Homestead.&nbsp\;For more information - visit the&nbsp\;<a href="http://www.belleorihomestead.com/" target="_blank">Belleori&nbsp\;Homestead website</a>
LOCATION:Belleori Homestead 35 Old San Antonio Rd Boerne\, TX 78006 (see Google Map for directions)
UID:e.187.11614
SEQUENCE:3
DTSTAMP:20260423T041238Z
URL:https://business.boerne.org/events/details/business-after-hours-mixer-belleori-homestead-11614
END:VEVENT

END:VCALENDAR
