BEGIN:VCALENDAR
VERSION:2.0
PRODID:-//ChamberMaster//Event Calendar 2.0//EN
METHOD:PUBLISH
X-PUBLISHED-TTL:P3D
REFRESH-INTERVAL:P3D
CALSCALE:GREGORIAN
BEGIN:VEVENT
DTSTART:20170608T220000Z
DTEND:20170609T000000Z
X-MICROSOFT-CDO-ALLDAYEVENT:FALSE
SUMMARY:Business After Hours Mixer Allen & Associates\, LLP
DESCRIPTION:Come mix and mingle at our Business After Hours Networking Mixer at Allen & Associates (link)
X-ALT-DESC;FMTTYPE=text/html:Come mix and mingle at our Business After Hours Networking Mixer at Allen &amp\; Associates (<a href="http://allenlawllp.com/">link</a>)
LOCATION:Allen & Associates 12 Upper Balcones Road Boerne\, TX 78006
UID:e.187.11418
SEQUENCE:3
DTSTAMP:20260423T023105Z
URL:https://business.boerne.org/events/details/business-after-hours-mixer-allen-associates-llp-11418
END:VEVENT

END:VCALENDAR
