BEGIN:VCALENDAR
VERSION:2.0
PRODID:-//ChamberMaster//Event Calendar 2.0//EN
METHOD:PUBLISH
X-PUBLISHED-TTL:P3D
REFRESH-INTERVAL:P3D
CALSCALE:GREGORIAN
BEGIN:VEVENT
DTSTART:20180531T223000Z
DTEND:20180601T000000Z
X-MICROSOFT-CDO-ALLDAYEVENT:FALSE
SUMMARY:Builders/ Realtors Connections sponsored by Garner Custom Homes
DESCRIPTION:Builders/Realtors Connection sponsored by Garner Custom Homes. (link) RSVP is required by Noon on May 27 to marysue@boerne.org\n\n\n\n"Join us for an update on area TxDOT projects\, presented by Jonathan Bean\, P.E. Director of Transportation Planning & Development TxDOT   San Antonio District"
X-ALT-DESC;FMTTYPE=text/html:Builders/Realtors Connection sponsored by Garner Custom Homes. (<a href="http://www.garnerhomes.com/">link</a>) RSVP is required by Noon on May 27 to marysue@boerne.org<br />\n<br />\n<span style="color:#1F497D\;">&ldquo\;Join us for an update on area TxDOT projects\, presented by </span><span style="color:#002060\;">Jonathan Bean\, P.E. Director of Transportation Planning &amp\; Development TxDOT &ndash\; San Antonio District&rdquo\;</span><br />\n&nbsp\;
LOCATION:Garner Custom Homes (model home in The Springs Subdivision Cordillera Ranch off of 3351) 17 Vaquero Pass Boerne\, TX 78006
UID:e.187.13665
SEQUENCE:3
DTSTAMP:20260422T090330Z
URL:https://business.boerne.org/events/details/builders-realtors-connections-sponsored-by-garner-custom-homes-13665
END:VEVENT

END:VCALENDAR
