BEGIN:VCALENDAR
VERSION:2.0
PRODID:-//ChamberMaster//Event Calendar 2.0//EN
METHOD:PUBLISH
X-PUBLISHED-TTL:P3D
REFRESH-INTERVAL:P3D
CALSCALE:GREGORIAN
BEGIN:VEVENT
DTSTART:20190228T233000Z
DTEND:20190301T010000Z
X-MICROSOFT-CDO-ALLDAYEVENT:FALSE
SUMMARY:Builders / Realtors Connections Presented by Texas Timber Frames
DESCRIPTION:Join the Greater Boerne Chamber of Commerce for a Builders and Realtors Connection including a presentation on the Development Review Process Improvement presented by City of Boerne Assistant City Manager\, Dan Blankenship.\n\n\n\nWe will have a networking opportunity and time for Q & A.  Please bring your business cards.  Refreshments will be provided by Texas Timber Frames.  \n\n\n\nRSVP is required by noon on February 18 to holly@boerne.org.
X-ALT-DESC;FMTTYPE=text/html:Join the Greater Boerne Chamber of Commerce for&nbsp\;a Builders and Realtors Connection&nbsp\;including a presentation on the Development Review Process Improvement presented by&nbsp\;City of Boerne&nbsp\;Assistant City Manager\, Dan Blankenship.<br />\n<br />\nWe will have a networking opportunity and time for Q &amp\; A.&nbsp\; Please bring your business cards.&nbsp\;&nbsp\;Refreshments will be provided by Texas Timber Frames.&nbsp\;&nbsp\;<br />\n<br />\nRSVP is required by noon on February 18 to <a href="mailto:holly@boerne.org">holly@boerne.org</a>.
LOCATION:Texas Timber Frames 613 TX-46 Boerne\, TX 78006
UID:e.187.15304
SEQUENCE:3
DTSTAMP:20260419T204827Z
URL:https://business.boerne.org/events/details/builders-realtors-connections-presented-by-texas-timber-frames-15304
END:VEVENT

END:VCALENDAR
