BEGIN:VCALENDAR
VERSION:2.0
PRODID:-//ChamberMaster//Event Calendar 2.0//EN
METHOD:PUBLISH
X-PUBLISHED-TTL:P3D
REFRESH-INTERVAL:P3D
CALSCALE:GREGORIAN
BEGIN:VEVENT
DTSTART:20180228T233000Z
DTEND:20180301T013000Z
X-MICROSOFT-CDO-ALLDAYEVENT:FALSE
SUMMARY:Builders and Realtors Connection
DESCRIPTION:Come join us for a Builders & Realtors Connection sponsored by Perry Homes. (link) Our topic for discussion will be The Top Reason Projects get Delayed by Laura Talley City of Boerne Planning and Community Development Director.  We will have a networking opportunity and time for Q & A.  Please bring your business cards.  Refreshments will be provided by Perry Homes.  \n\n \n\nRSVP is required to marysue@boerne.org by Feb 26.
X-ALT-DESC;FMTTYPE=text/html:<span style="background:white\;"><span style="color:#333333\;"><span style="font-size:12.0pt\;">Come join us for a Builders &amp\; Realtors Connection sponsored by Perry Homes. (l</span></span></span><span style="font-size:12.0pt\;"><a href="https://www.perryhomes.com/"><span style="color:#0782C1\;">ink</span></a><span style="background:white\;"><span style="color:#333333\;">) Our topic for discussion&nbsp\;will be&nbsp\;The Top Reason Projects get Delayed by Laura Talley City of Boerne&nbsp\;</span></span><span style="color:#545454\;">Planning and Community Development&nbsp\;Director.&nbsp\; We will have a networking opportunity and time for Q &amp\; A.&nbsp\; Please bring your business cards.&nbsp\;&nbsp\;Refreshments will be provided by Perry Homes.&nbsp\; </span></span><br />\n&nbsp\;<br />\n<span style="color:#545454\;"><span style="font-size:12.0pt\;">RSVP is required to <a href="mailto:marysue@boerne.org">marysue@boerne.org</a> by Feb 26.&nbsp\; </span></span>
LOCATION:Perry Homes (model) Ranches at Creekside 111 Coleto Creek Boerne\, TX 78006
UID:e.187.13524
SEQUENCE:3
DTSTAMP:20260422T134250Z
URL:https://business.boerne.org/events/details/builders-and-realtors-connection-13524
END:VEVENT

END:VCALENDAR
