BEGIN:VCALENDAR
VERSION:2.0
PRODID:-//ChamberMaster//Event Calendar 2.0//EN
METHOD:PUBLISH
X-PUBLISHED-TTL:P3D
REFRESH-INTERVAL:P3D
CALSCALE:GREGORIAN
BEGIN:VEVENT
DTSTART:20171129T233000Z
DTEND:20171130T010000Z
X-MICROSOFT-CDO-ALLDAYEVENT:FALSE
SUMMARY:Builders and Realtors Connection
DESCRIPTION:Please note change of venue!  Come join us for the Builder's and Realtor's Connection meeting.  The Boerne Chamber is bringing these two industries together  to establish local and regional collaboration.   With the extended growth of Boerne and the Hill Country our goal is to find the best opportunities to make the biggest impact on our community together.
X-ALT-DESC;FMTTYPE=text/html:<span style="background-image:initial\;background-position:initial\;background-size:initial\;background-repeat:initial\;background-attachment:initial\;background-origin:initial\;background-clip:initial\;"><span style="font-family:arial\,sans-serif\;"><span style="font-size:10pt\;">Please note change of venue!&nbsp\; Come join us for the Builder&#39\;s and Realtor&#39\;s Connection meeting.&nbsp\; The Boerne Chamber is bringing&nbsp\;these two&nbsp\;industries&nbsp\;together&nbsp\;&nbsp\;to&nbsp\;establish&nbsp\;local and regional&nbsp\;collaboration.&nbsp\; &nbsp\;With the extended growth of Boerne and the Hill Country our goal is to find the best opportunities to make the biggest impact on our community together.&nbsp\; &nbsp\;</span></span></span>
LOCATION:Due to great response we are moving the event from Greater Boerne Chamber of Commerce to Kronkosky Place 17 Old San Antonio Rd Boerne\, TX 78006
UID:e.187.12071
SEQUENCE:3
DTSTAMP:20260422T183525Z
URL:https://business.boerne.org/events/details/builders-and-realtors-connection-12071
END:VEVENT

END:VCALENDAR
