BEGIN:VCALENDAR
VERSION:2.0
PRODID:-//ChamberMaster//Event Calendar 2.0//EN
METHOD:PUBLISH
X-PUBLISHED-TTL:P3D
REFRESH-INTERVAL:P3D
CALSCALE:GREGORIAN
BEGIN:VEVENT
DTSTART:20170322T223000Z
DTEND:20170323T000000Z
X-MICROSOFT-CDO-ALLDAYEVENT:FALSE
SUMMARY:Builder's Connection sponsored by Jefferson Bank
DESCRIPTION:Builder's Connection sponsored by Jefferson Bank. (link)\n\nCome join us for a Builder's Connection Happy Hour sponsored by Jefferson Bank. We are in a unique time of growth in Boerne and the Texas Hill Country. \n\nOur target businesses to benefit from this networking event are those who are in or work with those in the building trade and or industry.  \n\nRSVP is required to marysue@boerne.org by March 17.
X-ALT-DESC;FMTTYPE=text/html:Builder&#39\;s Connection sponsored by Jefferson Bank. (<a href="http://www.jeffersonbank.com">link</a>)<br />\n<span style="font-size: medium\;"><span style="font-family: calibri\;">Come join us for a Builder&rsquo\;s Connection Happy Hour sponsored by Jefferson Bank. We are in a unique time of growth in Boerne and the Texas Hill Country. </span></span><br />\n<span style="font-size: medium\;"><span style="font-family: calibri\;">Our target businesses to benefit from this networking event are those who are in or work with those in the building trade and or industry.&nbsp\;&nbsp\;</span></span><br />\n<span style="font-size: medium\;"><span style="font-family: calibri\;">RSVP is required to </span></span><a href="mailto:marysue@boerne.org"><span style="font-size: medium\;"><span style="font-family: calibri\;"><span style="color: rgb(0\, 0\, 255)\;">marysue@boerne.org</span></span></span></a><span style="font-size: medium\;"><span style="font-family: calibri\;"> by March 17.&nbsp\;</span></span>
LOCATION:Jefferson Bank 371 N. Main St Boerne\, TX 78006 830-816-6306 830-816-2129 (fax) www.jeffersonbank.com
UID:e.187.11613
SEQUENCE:3
DTSTAMP:20260423T084345Z
URL:https://business.boerne.org/events/details/builder-s-connection-sponsored-by-jefferson-bank-11613
END:VEVENT

END:VCALENDAR
