BEGIN:VCALENDAR
VERSION:2.0
PRODID:-//ChamberMaster//Event Calendar 2.0//EN
METHOD:PUBLISH
X-PUBLISHED-TTL:P3D
REFRESH-INTERVAL:P3D
CALSCALE:GREGORIAN
BEGIN:VEVENT
DTSTART:20170208T233000Z
DTEND:20170209T003000Z
X-MICROSOFT-CDO-ALLDAYEVENT:FALSE
SUMMARY:Builder's Connection
DESCRIPTION:Builder's Connection
X-ALT-DESC;FMTTYPE=text/html:Builder&#39\;s Connection
LOCATION:Boerne Chamber 121 South Main Boerne\, Tx 78006
UID:e.187.11524
SEQUENCE:3
DTSTAMP:20260423T090458Z
URL:https://business.boerne.org/events/details/builder-s-connection-11524
END:VEVENT

END:VCALENDAR
