BEGIN:VCALENDAR
VERSION:2.0
PRODID:-//ChamberMaster//Event Calendar 2.0//EN
METHOD:PUBLISH
X-PUBLISHED-TTL:P3D
REFRESH-INTERVAL:P3D
CALSCALE:GREGORIAN
BEGIN:VEVENT
DTSTART:20250430T190000Z
DTEND:20250430T200000Z
X-MICROSOFT-CDO-ALLDAYEVENT:FALSE
SUMMARY:Build a Business That Works—Even When You’re Not There
DESCRIPTION:Running a business shouldn't mean running yourself into the ground. If you're a contractor\, trades professional\, or service firm with a solid team but limited time this power talk is for you. Chris Simmons and Darius Trainer\, with ActionCOACH\, break down what every established business owner needs to unlock profitability\, reduce stress\, and scale sustainably: clarity\, systems\, and support. Whether you're a general contractor\, HVAC company\, law firm\, or insurance agency with 5 to 50 employees\, you'll leave with insight into why doing it alone is costing you and what's possible with the right coaching partner.
X-ALT-DESC;FMTTYPE=text/html:Running a business shouldn&rsquo\;t mean running yourself into the ground. If you&#39\;re a contractor\, trades professional\, or service firm with a solid team but limited time this power talk is for you. Chris Simmons and Darius Trainer\, with&nbsp\;<em><strong>ActionCOACH</strong></em>\,<em><strong>&nbsp\;</strong></em>break down what every established business owner needs to unlock profitability\, reduce stress\, and scale sustainably: clarity\, systems\, and support. Whether you&#39\;re a general contractor\, HVAC company\, law firm\, or insurance agency with 5 to 50 employees\, you&rsquo\;ll leave with insight into why doing it alone is costing you&mdash\;and what&rsquo\;s possible with the right coaching partner.
LOCATION:Greater Boerne Chamber of Commerce 121 S Main St Boerne\, TX 78006
UID:e.187.29256
SEQUENCE:3
DTSTAMP:20260419T161135Z
URL:https://business.boerne.org/events/details/build-a-business-that-works-even-when-you-re-not-there-clarity-systems-support-29256
END:VEVENT

END:VCALENDAR
