BEGIN:VCALENDAR
VERSION:2.0
PRODID:-//ChamberMaster//Event Calendar 2.0//EN
METHOD:PUBLISH
X-PUBLISHED-TTL:P3D
REFRESH-INTERVAL:P3D
CALSCALE:GREGORIAN
BEGIN:VEVENT
DTSTART:20251213T153000Z
DTEND:20251213T163000Z
X-MICROSOFT-CDO-ALLDAYEVENT:FALSE
SUMMARY:Breakfast with Santa
DESCRIPTION:Santa Claus is Coming to theY!\n\nJoin us for a FREE morning of holiday fun! Enjoy a yummy pancake breakfast\, create a Christmas craft\, make magical reindeer food\, and snap a photo with Santa (bring your own camera!)\n\n*Registration is required. To register visit the Welcome Desk or online at\, ymcasatx.org/boerne.
X-ALT-DESC;FMTTYPE=text/html:Santa Claus is Coming to theY!<br />\nJoin us for a FREE morning of holiday fun! Enjoy a yummy pancake breakfast\, create a Christmas craft\, make magical reindeer food\, and snap a photo with Santa (bring your own camera!)<br />\n*Registration is required. To register visit the Welcome Desk or online at\, ymcasatx.org/boerne.&nbsp\;
LOCATION:Boerne Family YMCA 820 Adler Rd. Boerne\, TX 78006
UID:e.187.31969
SEQUENCE:3
DTSTAMP:20260420T020240Z
URL:https://business.boerne.org/events/details/breakfast-with-santa-12-13-2025-31969
END:VEVENT

END:VCALENDAR
