BEGIN:VCALENDAR
VERSION:2.0
PRODID:-//ChamberMaster//Event Calendar 2.0//EN
METHOD:PUBLISH
X-PUBLISHED-TTL:P3D
REFRESH-INTERVAL:P3D
CALSCALE:GREGORIAN
BEGIN:VEVENT
DTSTART:20181212T143000Z
DTEND:20181212T160000Z
X-MICROSOFT-CDO-ALLDAYEVENT:FALSE
SUMMARY:Breakfast with a Purpose | Leadership Boerne Session #4
DESCRIPTION:You're invited to join the Greater Boerne Chamber of Commerce 2019 Leadership Boerne Class for their 4th Session\, Breakfast with a Purpose at Hampton Inn & Suites for an alumni breakfast starting at 8:30AM.\n\n \n\nBreakfast with a Purpose   Leadership Boerne Session #4\n\nSponsored by Perry Homes\n\nHampton Inn & Suites\n\n34935 IH-10 West\n\nBoerne\, Texas\, 78006\n\n8:30AM   10:00AM\n\n \n\nThe objective of bringing the Leadership Boerne Alumni together is to provide leadership development opportunities\, programs and events for former Leadership Boerne Alumni that stimulate and facilitate community involvement. In 2019 you can expect more events and opportunities   join us in welcoming the 2019 class to the Alumni family and network with former classmates.
X-ALT-DESC;FMTTYPE=text/html:You&#39\;re invited to join the Greater Boerne Chamber of Commerce 2019 Leadership Boerne Class for their 4th Session\, Breakfast with a Purpose at Hampton Inn &amp\; Suites for an alumni breakfast starting at 8:30AM.<br />\n&nbsp\;<br />\nBreakfast with a Purpose &ndash\; Leadership Boerne Session #4<br />\nSponsored by Perry Homes<br />\nHampton Inn &amp\; Suites<br />\n34935 IH-10 West<br />\nBoerne\, Texas\, 78006<br />\n8:30AM &ndash\; 10:00AM<br />\n&nbsp\;<br />\nThe objective of bringing the Leadership Boerne Alumni together is to provide leadership development opportunities\, programs and events for former Leadership Boerne Alumni that stimulate and facilitate community involvement. In 2019 you can expect more events and opportunities &ndash\; join us in welcoming the 2019 class to the Alumni family and network with former classmates.<br />\n&nbsp\;
LOCATION:Hampton Inn & Suites Boerne 34935 I-10 Boerne\, TX 78006
UID:e.187.11094
SEQUENCE:3
DTSTAMP:20260419T222855Z
URL:https://business.boerne.org/events/details/breakfast-with-a-purpose-leadership-boerne-session-4-11094
END:VEVENT

END:VCALENDAR
