BEGIN:VCALENDAR
VERSION:2.0
PRODID:-//ChamberMaster//Event Calendar 2.0//EN
METHOD:PUBLISH
X-PUBLISHED-TTL:P3D
REFRESH-INTERVAL:P3D
CALSCALE:GREGORIAN
BEGIN:VEVENT
DTSTART:20241018T200000Z
DTEND:20241019T020000Z
X-MICROSOFT-CDO-ALLDAYEVENT:FALSE
SUMMARY:Boys & Girls Club of Comfort Shootout and Dinner
DESCRIPTION:The Comfort Boys & Girls Club Advisory Council invites you to join us for a fun-filled day of clay shooting! Proceeds from this event will go towards providing the financial resources needed for the Boys & Girls Club of Comfort to serve as many children as possible in a safe and secure facility.
X-ALT-DESC;FMTTYPE=text/html:The Comfort Boys &amp\; Girls Club Advisory Council invites you to join us for a fun-filled day of clay shooting! Proceeds from this event will go towards providing the financial resources needed for the Boys &amp\; Girls Club of Comfort to serve as many children as possible in a safe and secure facility.&nbsp\;
LOCATION:Joshua Creek Ranch
UID:e.187.28650
SEQUENCE:3
DTSTAMP:20260419T163308Z
URL:https://business.boerne.org/events/details/boys-girls-club-of-comfort-shootout-and-dinner-28650
END:VEVENT

END:VCALENDAR
