BEGIN:VCALENDAR
VERSION:2.0
PRODID:-//ChamberMaster//Event Calendar 2.0//EN
METHOD:PUBLISH
X-PUBLISHED-TTL:P3D
REFRESH-INTERVAL:P3D
CALSCALE:GREGORIAN
BEGIN:VEVENT
DTSTART:20260319T210000Z
DTEND:20260319T230000Z
X-MICROSOFT-CDO-ALLDAYEVENT:FALSE
SUMMARY:Boost Boerne Business hosted by Boerne Radio
DESCRIPTION:March Boost Boerne Networking event is made possible by Boerne Radio 103.9FM\, Cavender Chevrolet & Clearview Bookkeeping. \n\nLocation: -Cavender Chevrolet 30700 Interstate -10 W \n\nBoerne Radio is collecting Easter Baskets for children in need. Every Filled Easter Basket gets entered into a special drawing for a $500 BBB Sponsorship Package \n\nYou will enjoy great appetizers and drinks.\n\nEnjoy gathering with new and old friends as you network with other Boerne Business Owners\, Leaders\, and Marketing Professionals like you\, and hopefully walk away with a great door prize too.\n\n\n	4pm - Check In / Networking\n	4:45pm - Welcome from Boerne Radio's Shan Wiley\n	4?:50pm - Speed Networking\n	 5?:00pm - Welcome from Cavender Chevrolet\n	5:05pm - Introduce Sponsors - \n	5:10pm - Business Training Nugget from Clearview Bookkeeping.\n	5:20pm - Door Prizes\n	5:30pm - Back 2 Networking\n\n\nDoor Prizes:\n\nReserve your spot for next month with Shan Wiley at 210-842-5840\n\nDoor Prize minimum value $50 - Give your :60 second elevator speech\, pull and hand deliver your prize to the winner.\n\nBoost Boerne Events are always FREE\, https://forms.gle/2kkTzXDytrj5fSa98
X-ALT-DESC;FMTTYPE=text/html:<p>March Boost Boerne Networking event is made possible by Boerne Radio 103.9FM\, Cavender Chevrolet &amp\; Clearview Bookkeeping.&nbsp\;</p>\n\n<p><strong>Location: -Cavender Chevrolet 30700 Interstate -10 W&nbsp\;</strong></p>\n\n<p><strong>Boerne Radio is collecting Easter Baskets for children in need. Every Filled Easter Basket gets entered into a special drawing for a $500 BBB Sponsorship Package&nbsp\;</strong></p>\n\n<p>You will enjoy great appetizers and drinks.</p>\n\n<p>Enjoy gathering with new and old friends as you network with other Boerne Business Owners\, Leaders\, and Marketing Professionals like you\, and hopefully walk away with a great door prize too.</p>\n\n<ul>\n	<li>4pm - Check In / Networking</li>\n	<li>4:45pm - Welcome from&nbsp\;<a class="x-el x-el-a c1-2e c1-2f c1-96 c1-1j c1-1k c1-2g c1-14 c1-bi c1-b c1-bg c1-2i c1-cu c1-cv" href="https://boerneradio.godaddysites.com/" rel="nofollow noopener noreferrer" style="box-sizing: inherit\; background-color: transparent\; color: rgb(101\, 125\, 32)\; cursor: pointer\; overflow-wrap: break-word\; letter-spacing: inherit\; text-transform: inherit\; display: inline\; font-weight: inherit\; font-size: unset\;" target="_blank">Boerne Radio&#39\;</a>s Shan Wiley</li>\n	<li>4?:50pm - Speed Networking</li>\n	<li>&nbsp\;5?:00pm - Welcome from Cavender Chevrolet</li>\n	<li>5:05pm - Introduce Sponsors -&nbsp\;</li>\n	<li>5:10pm - Business Training Nugget from Clearview Bookkeeping.</li>\n	<li>5:20pm - Door Prizes</li>\n	<li>5:30pm - Back 2 Networking</li>\n</ul>\n\n<p>Door Prizes:</p>\n\n<p>Reserve your spot for next month with Shan Wiley at 210-842-5840</p>\n\n<p>Door Prize minimum value $50 - Give your :60 second elevator speech\, pull and hand deliver your prize to the winner.</p>\n\n<p>Boost Boerne Events are always FREE<a class="x-el x-el-a c1-2e c1-2f c1-96 c1-1j c1-1k c1-2g c1-14 c1-bi c1-b c1-bg c1-2i c1-cu c1-cv" href="https://forms.gle/TYHvPqqieZJkE4jr5" rel="noopener" style="box-sizing: inherit\; background-color: transparent\; color: rgb(101\, 125\, 32)\; cursor: pointer\; overflow-wrap: break-word\; letter-spacing: inherit\; text-transform: inherit\; display: inline\; font-weight: inherit\; font-size: unset\;" target="_blank">\,</a>&nbsp\;<a class="x-el x-el-a c1-2e c1-2f c1-96 c1-1j c1-1k c1-2g c1-14 c1-bi c1-b c1-bg c1-2i c1-cu c1-cv" href="https://forms.gle/2kkTzXDytrj5fSa98" style="box-sizing: inherit\; background-color: transparent\; color: rgb(101\, 125\, 32)\; cursor: pointer\; overflow-wrap: break-word\; letter-spacing: inherit\; text-transform: inherit\; display: inline\; font-weight: inherit\; font-size: unset\;" target="_blank">https://forms.gle/2kkTzXDytrj5fSa98</a></p>\n
LOCATION:Cavender Chevrolet - 30700 Interstate 10 West Boerne\, TX 78006
UID:e.187.32284
SEQUENCE:3
DTSTAMP:20260420T071043Z
URL:https://business.boerne.org/events/details/boost-boerne-business-hosted-by-boerne-radio-03-19-2026-32284
END:VEVENT

END:VCALENDAR
