BEGIN:VCALENDAR
VERSION:2.0
PRODID:-//ChamberMaster//Event Calendar 2.0//EN
METHOD:PUBLISH
X-PUBLISHED-TTL:P3D
REFRESH-INTERVAL:P3D
CALSCALE:GREGORIAN
BEGIN:VEVENT
DTSTART:20241017T210000Z
DTEND:20241017T230000Z
X-MICROSOFT-CDO-ALLDAYEVENT:FALSE
SUMMARY:Boost Boerne Business
DESCRIPTION:The October Boost Boerne Business Networking event is made possible by Boerne Radio 103.9FM\, Cibolo Center for Conservation\, August House Fine Jewelry\, The Jones Christmas Ranch\n\nLocation: Herff Farm - 33 Herff Rd.\n\n \n\nYou will enjoy great appetizers and drinks.\n\nEnjoy gathering with new and old friends as you network with other Boerne Business Owners\, Leaders\, and Marketing Professionals like you\, and hopefully walk away with a great door prize too.\n\n \n\n4pm - Check In / Networking\n\n4:45pm - Welcome from Boerne Radio's Shan Wiley\n\n4?:50- Speed Networking\n\n5?:00pm - Welcome from Cibolo Center for Conservation\n\n5:05pm - Introduce Sponsors - August House Fine Jewelry & The Jones Christmas Ranch\n\n5:10pm - Business Training Nugget from Clearview Bookkeeping\n\n5:20pm - Door Prizes\n\n5:30pm - Back 2 Networking\n\n\n\nThis event is Free\, register here: https://forms.gle/Rmaf4AE9Aqv6ev5G9
X-ALT-DESC;FMTTYPE=text/html:<div>The October Boost Boerne Business Networking event is made possible by Boerne Radio 103.9FM\, Cibolo Center for Conservation\, August House Fine Jewelry\, The Jones Christmas Ranch</div>\n\n<div>Location: Herff Farm - 33 Herff Rd.<br />\n&nbsp\;</div>\n\n<div>You will enjoy great appetizers and drinks.</div>\n\n<div>Enjoy gathering with new and old friends as you network with other Boerne Business Owners\, Leaders\, and Marketing Professionals like you\, and hopefully walk away with a great door prize too.</div>\n\n<div>&nbsp\;</div>\n\n<div>4pm - Check In / Networking<br />\n4:45pm - Welcome from Boerne Radio&#39\;s Shan Wiley<br />\n4?:50- Speed Networking<br />\n5?:00pm - Welcome from Cibolo Center for Conservation<br />\n5:05pm - Introduce Sponsors - August House Fine Jewelry &amp\; The Jones Christmas Ranch<br />\n5:10pm - Business Training Nugget from Clearview Bookkeeping<br />\n5:20pm - Door Prizes<br />\n5:30pm - Back 2 Networking<br />\n<br />\nThis event is Free\, register here:&nbsp\;https://forms.gle/Rmaf4AE9Aqv6ev5G9</div>\n\n<div>&nbsp\;</div>\n\n<div>&nbsp\;</div>\n\n<div>&nbsp\;</div>\n
LOCATION:Herff Farm
UID:e.187.28707
SEQUENCE:3
DTSTAMP:20260419T162715Z
URL:https://business.boerne.org/events/details/boost-boerne-business-10-17-2024-28707
END:VEVENT

END:VCALENDAR
