BEGIN:VCALENDAR
VERSION:2.0
PRODID:-//ChamberMaster//Event Calendar 2.0//EN
METHOD:PUBLISH
X-PUBLISHED-TTL:P3D
REFRESH-INTERVAL:P3D
CALSCALE:GREGORIAN
BEGIN:VEVENT
DTSTART:20241026T150000Z
DTEND:20241026T220000Z
X-MICROSOFT-CDO-ALLDAYEVENT:FALSE
SUMMARY:Boerne's Trick or Treat Trail
DESCRIPTION:Trick or treat all day long in and around the Hill Country Mile! Kids and adults are welcome to dress up and fill their candy buckets while leisurely shopping and strolling through our historic downtown.\n\nRevisit your favorite shops and restaurants\, or discover something new while supporting your local business community!\n\nParticipating Business Include:\n\n259 Brantley's Bistro (opens at 11 am)\n\nA Little Nature Store\n\nAlene's Boutique\n\nThe Boerne Bookshop\n\nBoerne Farmhouse\n\nCeleste\n\nThe Christmas Shoppe\n\nCorner Cartel\n\nDaly Finds Resale Boutique\n\nDienger Trading Company (Boutique)\n\nGallery 195 of Boerne\n\nHey Love\n\nJoli Boutique\n\nLaFours Restaurant\n\nLa Te Da\n\nLaurie Saunders\n\nLuLu-Bells / Hillje Music\n\nOf A Muse (opens at 11 am)\n\nThe Pearl Antler\n\nPixie\n\nReal Fashion Boutique\n\nRichter Boerne (Bakhaus Bakery)\n\nSalty & Sweet\n\nThe Sanctuary\n\nShoppes at 222\n\nTexas Gourmet Pantry\n\nTusculum Brewing Company\n\nUnder The Fig Tree\n\nUptown Chic
X-ALT-DESC;FMTTYPE=text/html:<div class="xdj266r x11i5rnm xat24cr x1mh8g0r x1vvkbs" style="margin: 0px\; overflow-wrap: break-word\; font-family: &quot\;Segoe UI Historic&quot\;\, &quot\;Segoe UI&quot\;\, Helvetica\, Arial\, sans-serif\; color: rgb(8\, 8\, 9)\; font-size: 15px\; background-color: rgb(255\, 255\, 255)\;">Trick or treat all day long in and around the Hill Country Mile! Kids and adults are welcome to dress up and fill their candy buckets while leisurely shopping and strolling through our historic downtown.</div>\n\n<div class="x11i5rnm xat24cr x1mh8g0r x1vvkbs xtlvy1s" style="margin: 0.5em 0px 0px\; overflow-wrap: break-word\; font-family: &quot\;Segoe UI Historic&quot\;\, &quot\;Segoe UI&quot\;\, Helvetica\, Arial\, sans-serif\; color: rgb(8\, 8\, 9)\; font-size: 15px\; background-color: rgb(255\, 255\, 255)\;">Revisit your favorite shops and restaurants\, or discover something new while supporting your local business community!</div>\n\n<div class="x11i5rnm xat24cr x1mh8g0r x1vvkbs xtlvy1s" style="margin: 0.5em 0px 0px\; overflow-wrap: break-word\; font-family: &quot\;Segoe UI Historic&quot\;\, &quot\;Segoe UI&quot\;\, Helvetica\, Arial\, sans-serif\; color: rgb(8\, 8\, 9)\; font-size: 15px\; background-color: rgb(255\, 255\, 255)\;">Participating Business Include:<br class="html-br" />\n259 Brantley&#39\;s Bistro (opens at 11 am)<br class="html-br" />\nA Little Nature Store<br class="html-br" />\nAlene&#39\;s Boutique<br class="html-br" />\nThe Boerne Bookshop<br class="html-br" />\nBoerne Farmhouse<br class="html-br" />\nCeleste<br class="html-br" />\nThe Christmas Shoppe<br class="html-br" />\nCorner Cartel<br class="html-br" />\nDaly Finds Resale Boutique<br class="html-br" />\nDienger Trading Company (Boutique)<br class="html-br" />\nGallery 195 of Boerne<br class="html-br" />\nHey Love<br class="html-br" />\nJoli Boutique<br class="html-br" />\nLaFours Restaurant<br class="html-br" />\nLa Te Da<br class="html-br" />\nLaurie Saunders<br class="html-br" />\nLuLu-Bells / Hillje Music<br class="html-br" />\nOf A Muse (opens at 11 am)<br class="html-br" />\nThe Pearl Antler<br class="html-br" />\nPixie<br class="html-br" />\nReal Fashion Boutique<br class="html-br" />\nRichter Boerne (Bakhaus Bakery)<br class="html-br" />\nSalty &amp\; Sweet<br class="html-br" />\nThe Sanctuary<br class="html-br" />\nShoppes at 222<br class="html-br" />\nTexas Gourmet Pantry<br class="html-br" />\nTusculum Brewing Company<br class="html-br" />\nUnder The Fig Tree<br class="html-br" />\nUptown Chic</div>\n
LOCATION:Hill Country Mile
UID:e.187.28719
SEQUENCE:3
DTSTAMP:20260419T174258Z
URL:https://business.boerne.org/events/details/boerne-s-trick-or-treat-trail-28719
END:VEVENT

END:VCALENDAR
