BEGIN:VCALENDAR
VERSION:2.0
PRODID:-//ChamberMaster//Event Calendar 2.0//EN
METHOD:PUBLISH
X-PUBLISHED-TTL:P3D
REFRESH-INTERVAL:P3D
CALSCALE:GREGORIAN
BEGIN:VEVENT
DTSTART:20240921T230000Z
DTEND:20240922T020000Z
X-MICROSOFT-CDO-ALLDAYEVENT:FALSE
SUMMARY:Boerne Retailers' Style Show & Shopping Event
DESCRIPTION:Join the Boerne Retail & Restaurant Owners Association for the 2024 Boerne Retailers' Style Show & Shopping Event happening on Saturday\, September 21st\, 6-9pm! All profits benefit the Kendall County Women's Shelter - KCWS. Come join some of your favorite stores in the Boerne area as they strut their stuff down the runway! You will also get to shop with them in their pop-up shops. There will also be a after party at Pure Country. For more information about our retailers or sponsors check out their website at www.boerneretailersstyleandshop.com\n\n\n\nParticipants include:\n\n- F abulous Finds\n\n- Joli Boutique\n\n- H andmade on Main\n\n- S hoppes at 222\n\n- Hey Love\n\n- Alene's Boutique\n\n- LD Bridal\n\n- Real Fashion Boutique\n\n- The Iron Hummingbird\n\n- Celeste\n\n- The Pearl Antler\n\n- The Christmas Shoppe\n\n- J Forks Designs
X-ALT-DESC;FMTTYPE=text/html:<span style="white-space-collapse: preserve\;">Join the </span><span class="xv78j7m" spellcheck="false" style="white-space-collapse: preserve\;">Boerne Retail &amp\; Restaurant Owners Association</span><span style="white-space-collapse: preserve\;"> for the 2024 </span><span class="xv78j7m" spellcheck="false" style="white-space-collapse: preserve\;">Boerne Retailers&#39\; Style Show &amp\; Shopping Event</span><span style="white-space-collapse: preserve\;"> happening on Saturday\, September 21st\, 6-9pm! All profits benefit the </span><span class="xv78j7m" spellcheck="false" style="white-space-collapse: preserve\;">Kendall County Women&#39\;s Shelter - KCWS</span><span style="white-space-collapse: preserve\;">. Come join some of your favorite stores in the Boerne area as they strut their stuff down the runway! You will also get to shop with them in their pop-up shops. There will also be a after party at Pure Country. For more information about our retailers or sponsors check out their website at </span><a class="x1fey0fg xmper1u x1edh9d7" href="www.boerneretailersstyleandshop.com"><span style="white-space-collapse: preserve\;">www.boerneretailersstyleandshop.com</span></a><br />\n<br />\n<span style="white-space-collapse: preserve\;">Participants include:</span><br />\n<span style="white-space-collapse: preserve\;">- F&#65279\;abulous Finds</span><br />\n<span style="white-space-collapse: preserve\;">- Joli Boutique</span><br />\n<span style="white-space-collapse: preserve\;">- H&#65279\;andmade on Main</span><br />\n<span style="white-space-collapse: preserve\;">- S&#65279\;hoppes at 222</span><br />\n<span style="white-space-collapse: preserve\;">- Hey Love</span><br />\n<span style="white-space-collapse: preserve\;">- Alene&#39\;s Boutique</span><br />\n<span style="white-space-collapse: preserve\;">- LD Bridal</span><br />\n<span style="white-space-collapse: preserve\;">- Real Fashion Boutique</span><br />\n<span style="white-space-collapse: preserve\;">- The Iron Hummingbird</span><br />\n<span style="white-space-collapse: preserve\;">- Celeste</span><br />\n<span style="white-space-collapse: preserve\;">- The Pearl Antler</span><br />\n<span style="white-space-collapse: preserve\;">- The Christmas Shoppe</span><br />\n<span style="white-space-collapse: preserve\;">- J Forks Designs</span>
LOCATION:The Bevy Hotel 101 Herff Road Boerne\, TX 78006
UID:e.187.28552
SEQUENCE:3
DTSTAMP:20260419T181323Z
URL:https://business.boerne.org/events/details/boerne-retailers-style-show-shopping-event-28552
END:VEVENT

END:VCALENDAR
