BEGIN:VCALENDAR
VERSION:2.0
PRODID:-//ChamberMaster//Event Calendar 2.0//EN
METHOD:PUBLISH
X-PUBLISHED-TTL:P3D
REFRESH-INTERVAL:P3D
CALSCALE:GREGORIAN
BEGIN:VEVENT
DTSTART:20241003T163000Z
DTEND:20241003T180000Z
X-MICROSOFT-CDO-ALLDAYEVENT:FALSE
SUMMARY:Boerne Radio BBB's Professional Lunch and Learn
DESCRIPTION:Join Boerne Radio for Boost Boerne Business's first Business Professionals Lunch and Learn. They will showcase two leading business experts who will provide essential information to elevate your business. You will get the chance to network with other business professional and possibly win a fun door prize.\n\nDate - Thursday\, October 3rd\n\n11:00am - Networking\n\n11:30am - Welcome / Opening Prayer / Door Prize #1\n\n11:40am - Lunch Buffet by Las Guitarras Cocina Mexicana\n\n12:00pm - Kyle Avery - Cybersecurity expert\, researcher\, and principal offensive specialist lead for a world-renowned security development company.\n\n12:20pm - Bill Bird with Bird Imports + Door Prize #2\n\n12:30pm - Sonny Melendrez - TEDx Talker / Texas Radio Hall of Fame / Twice Named Billboard Personality of the Year\n\n12:50pm - Door Prize #3\n\nCost - $50 per person - Includes Mexican Themed Buffet + Tea (cash bar available)\n\n\n\nSign up at www.boerneradio.com / Only 100 seats available
X-ALT-DESC;FMTTYPE=text/html:<p>Join Boerne Radio for Boost Boerne Business&rsquo\;s first Business Professionals Lunch and Learn. They will showcase two leading business experts who will provide essential information to elevate your business. You will get the chance to network with other business professional and possibly win a fun door prize.</p>\n\n<p><strong>Date - Thursday\, October 3rd</strong></p>\n\n<p><strong>11:00am - Networking</strong><br />\n<strong>11:30am - Welcome / Opening Prayer / Door Prize #1</strong><br />\n<strong>11:40am - Lunch Buffet by Las Guitarras Cocina Mexicana</strong><br />\n<strong>12:00pm - Kyle Avery - Cybersecurity expert\, researcher\, and principal offensive specialist lead for a world-renowned security development company.</strong><br />\n<strong>12:20pm - Bill Bird with Bird Imports</strong><strong>&nbsp\;</strong><strong>+ Door Prize #2</strong><br />\n<strong>12:30pm - Sonny Melendrez - TEDx Talker / Texas Radio Hall of Fame / Twice Named Billboard Personality of the Year</strong><br />\n<strong>12:50pm - Door Prize #3</strong></p>\n\n<p><strong>Cost - $50 per person - Includes Mexican Themed Buffet + Tea (cash bar available)<br />\n<br />\nSign up at www.boerneradio.com</strong><strong>&nbsp\;</strong><strong>/&nbsp\;</strong><strong>Only 100 seats available</strong></p>\n
LOCATION:Las Guitarras Mexican Restaurant 911 S Main St\, Boerne\, TX 78006
UID:e.187.28633
SEQUENCE:3
DTSTAMP:20260419T175145Z
URL:https://business.boerne.org/events/details/boerne-radio-bbb-s-professional-lunch-and-learn-28633
END:VEVENT

END:VCALENDAR
