BEGIN:VCALENDAR
VERSION:2.0
PRODID:-//ChamberMaster//Event Calendar 2.0//EN
METHOD:PUBLISH
X-PUBLISHED-TTL:P3D
REFRESH-INTERVAL:P3D
CALSCALE:GREGORIAN
BEGIN:VEVENT
DTSTART:20180109T230000Z
DTEND:20180110T000000Z
X-MICROSOFT-CDO-ALLDAYEVENT:FALSE
SUMMARY:Boerne Noon Rotary Fireside Meeting
DESCRIPTION:Boerne Noon Rotary Fireside meeting.
X-ALT-DESC;FMTTYPE=text/html:Boerne Noon Rotary Fireside meeting.
LOCATION:Boerne Chamber Conference Room 121 S. Main St.\, Boerne\, TX 78006
UID:e.187.13278
SEQUENCE:3
DTSTAMP:20260422T170645Z
URL:https://business.boerne.org/events/details/boerne-noon-rotary-fireside-meeting-13278
END:VEVENT

END:VCALENDAR
