BEGIN:VCALENDAR
VERSION:2.0
PRODID:-//ChamberMaster//Event Calendar 2.0//EN
METHOD:PUBLISH
X-PUBLISHED-TTL:P3D
REFRESH-INTERVAL:P3D
CALSCALE:GREGORIAN
BEGIN:VEVENT
DTSTART:20170507T180000Z
DTEND:20170507T210000Z
X-MICROSOFT-CDO-ALLDAYEVENT:FALSE
SUMMARY:Boerne Lemonade Day
DESCRIPTION:What is Lemonade Day?\n\n\n\nLemonade Day is a nation-wide event that teaches kids the skills they need to be successful in life.  Kids learn to set goals\, develop a business plan\, establish a budget\, seek investors\, provide customer service\, save for the future\, and give back to the community. Lemonade Day Boerne is the perfect opportunity for our community to show kids they care and train the next generation of entrepreneurs through a free\, fun\, engaging\, and empowering activity.\n\nWhen is it?\n\nNational Lemonade Day and Lemonade Day Boerne will take place on Sunday\, May 7\, 2016. \n\nWho can participate?\n\nYouth of all ages\, from pre-K through high school\, can register to set up an official Lemonade Day stand.  However\, we encourage students third through fifth to participate. How does it work?\n\nStudents will register for Lemonade Day beginning in January 2017.  Registered students will receive a backpack with an informational workbook that outlines the steps needed to start a business: from setting a goal\, creating a business plan\, forming a budget\, finding an investor\, to saving money\, and donating a portion back to their community. Classes will be held\, but are optional\, during the spring for students to learn more about creating and operating their own business.
X-ALT-DESC;FMTTYPE=text/html:&nbsp\;<span style="font-family:kristen itc\;"><span style="font-size:12.0pt\;">What is Lemonade Day?</span></span><br />\n<br />\n<span style="font-family:century gothic\,sans-serif\;">Lemonade Day is a nation-wide event that teaches kids the skills they need to be successful in life.&nbsp\; Kids learn to set goals\, develop a business plan\, establish a budget\, seek investors\, provide customer service\, save for the future\, and give back to the community. Lemonade Day Boerne is the perfect opportunity for our community to show kids they care and train the next generation of entrepreneurs through a free\, fun\, engaging\, and empowering activity.</span><br />\n<span style="font-family:kristen itc\;"><span style="font-size:12.0pt\;">When is it?</span></span><br />\n<span style="font-family:century gothic\,sans-serif\;">National Lemonade Day and Lemonade Day Boerne will take place on Sunday\, May 7\, 2016.</span>&nbsp\;<br />\n<span style="font-family:kristen itc\;"><span style="font-size:12.0pt\;">Who can participate?</span></span><br />\n<span style="font-family:century gothic\,sans-serif\;">Youth of all ages\, from pre-K through high school\, can register to set up an official Lemonade Day stand. &nbsp\;However\, we encourage students third through fifth to participate. </span><span style="font-family:kristen itc\;"><span style="font-size:12.0pt\;">How does it work?</span></span><br />\n<span style="font-family:century gothic\,sans-serif\;">Students will register for Lemonade Day beginning in January 2017.&nbsp\; Registered students will receive a backpack with an informational workbook that outlines the steps needed to start a business: from setting a goal\, creating a business plan\, forming a budget\, finding an investor\, to saving money\, and donating a portion back to their community. Classes will be held\, but are optional\, during the spring for students to learn more about creating and operating their own business.</span>&nbsp\;<br />\n&nbsp\;<br />\n<br />\n&nbsp\;
LOCATION:All over Boerne.
UID:e.187.11438
SEQUENCE:3
DTSTAMP:20260423T054140Z
URL:https://business.boerne.org/events/details/boerne-lemonade-day-11438
END:VEVENT

END:VCALENDAR
