BEGIN:VCALENDAR
VERSION:2.0
PRODID:-//ChamberMaster//Event Calendar 2.0//EN
METHOD:PUBLISH
X-PUBLISHED-TTL:P3D
REFRESH-INTERVAL:P3D
CALSCALE:GREGORIAN
BEGIN:VEVENT
DTSTART:20190307T170000Z
DTEND:20190307T190000Z
X-MICROSOFT-CDO-ALLDAYEVENT:FALSE
SUMMARY:Boerne ISD State of the District presented by Ford of Boerne
DESCRIPTION:Boerne ISD State of the District Address & Luncheon presented by Ford of Boerne
X-ALT-DESC;FMTTYPE=text/html:Boerne ISD State of the District Address &amp\; Luncheon presented by Ford of Boerne
LOCATION:The Cana Ballroom 202 W. Kronkosky St. Boerne\, TX 78006
UID:e.187.13954
SEQUENCE:3
DTSTAMP:20260419T175610Z
URL:https://business.boerne.org/events/details/boerne-isd-state-of-the-district-presented-by-ford-of-boerne-13954
END:VEVENT

END:VCALENDAR
