BEGIN:VCALENDAR
VERSION:2.0
PRODID:-//ChamberMaster//Event Calendar 2.0//EN
METHOD:PUBLISH
X-PUBLISHED-TTL:P3D
REFRESH-INTERVAL:P3D
CALSCALE:GREGORIAN
BEGIN:VEVENT
DTSTART:20241008T163000Z
DTEND:20241008T183000Z
X-MICROSOFT-CDO-ALLDAYEVENT:FALSE
SUMMARY:Boerne ISD Incubator.edu Mentor Match Day
DESCRIPTION:Join us for the 2024 Boerne ISD Incubator.edu Mentor Match Day\, as we 'speed date' our way through student pitches. Adults will go from group to group listening\, giving feedback and rating the student teams to determine which group you might be a good fit for.
X-ALT-DESC;FMTTYPE=text/html:<div>\n<p>Join us for the 2024 Boerne ISD Incubator.edu Mentor Match Day\, as we &lsquo\;speed date&rsquo\; our way through student pitches. Adults will go from group to group listening\, giving feedback and rating the student teams to determine which group you might be a good fit for.</p>\n</div>\n
LOCATION:Das GreenHaus 7 Upper Balcones Rd. Boerne\, TX 78006
UID:e.187.28643
SEQUENCE:3
DTSTAMP:20260419T175151Z
URL:https://business.boerne.org/events/details/boerne-isd-incubator-edu-mentor-match-day-28643
END:VEVENT

END:VCALENDAR
