BEGIN:VCALENDAR
VERSION:2.0
PRODID:-//ChamberMaster//Event Calendar 2.0//EN
METHOD:PUBLISH
X-PUBLISHED-TTL:P3D
REFRESH-INTERVAL:P3D
CALSCALE:GREGORIAN
BEGIN:VEVENT
DTSTART:20230422T150000Z
DTEND:20230422T190000Z
X-MICROSOFT-CDO-ALLDAYEVENT:FALSE
SUMMARY:Boerne Fire Department Open House
DESCRIPTION:We are excited to see everyone on April 22\, 2023 from 10 a.m. to 2 p.m. for our 2nd Annual Open House!\n\n\n\nThere will be demos\, activities for the kids\, station and truck tours\, free hot dogs and soda\, and much more!\n\n\n\nPlease stay tuned for more updates!
X-ALT-DESC;FMTTYPE=text/html:<div class="x11i5rnm xat24cr x1mh8g0r x1vvkbs xdj266r x126k92a" style="margin: 0px\; white-space: pre-wrap\; overflow-wrap: break-word\; font-family: &quot\;Segoe UI Historic&quot\;\, &quot\;Segoe UI&quot\;\, Helvetica\, Arial\, sans-serif\; color: rgb(5\, 5\, 5)\; font-size: 15px\;">\n<div dir="auto" style="font-family: inherit\;"><span style="font-size:14px\;"><span style="font-family:arial\;">We are excited to see everyone on April 22\, 2023 from 10 a.m. to 2 p.m. for our 2nd Annual Open House!</span></span></div>\n</div>\n\n<div class="x11i5rnm xat24cr x1mh8g0r x1vvkbs xtlvy1s x126k92a" style="margin: 0.5em 0px 0px\; white-space: pre-wrap\; overflow-wrap: break-word\; font-family: &quot\;Segoe UI Historic&quot\;\, &quot\;Segoe UI&quot\;\, Helvetica\, Arial\, sans-serif\; color: rgb(5\, 5\, 5)\; font-size: 15px\;">\n<div dir="auto" style="font-family: inherit\;"><span style="font-size:14px\;"><span style="font-family:arial\;">There will be demos\, activities for the kids\, station and truck tours\, free hot dogs and soda\, and much more!</span></span></div>\n</div>\n\n<div class="x11i5rnm xat24cr x1mh8g0r x1vvkbs xtlvy1s x126k92a" style="margin: 0.5em 0px 0px\; white-space: pre-wrap\; overflow-wrap: break-word\; font-family: &quot\;Segoe UI Historic&quot\;\, &quot\;Segoe UI&quot\;\, Helvetica\, Arial\, sans-serif\; color: rgb(5\, 5\, 5)\; font-size: 15px\;">\n<div dir="auto" style="font-family: inherit\;"><span style="font-size:14px\;"><span style="font-family:arial\;">Please stay tuned for more updates!</span></span></div>\n</div>\n
LOCATION:Boerne Fire Station 726 N Main St. Boerne\, TX. 78006
UID:e.187.21742
SEQUENCE:3
DTSTAMP:20260423T101812Z
URL:https://business.boerne.org/events/details/boerne-fire-department-open-house-21742
END:VEVENT

END:VCALENDAR
