BEGIN:VCALENDAR
VERSION:2.0
PRODID:-//ChamberMaster//Event Calendar 2.0//EN
METHOD:PUBLISH
X-PUBLISHED-TTL:P3D
REFRESH-INTERVAL:P3D
CALSCALE:GREGORIAN
BEGIN:VEVENT
DTSTART:20181015T233000Z
DTEND:20181016T013000Z
X-MICROSOFT-CDO-ALLDAYEVENT:FALSE
SUMMARY:Boerne Chamber of Commerce Candidate Forum
DESCRIPTION:Join us for a Pre-November Election Candidate Forum.\n\nKendall County candidates will be answering questions posed to them on a number of issues from the Chamber's recent Legislative Agenda survey.\n\n\n\nCandidates in attendance will include:\n\n	Nicole Bishop (Kendall County District Attorney)\n	Kirsten Cohoon (Kendall County District Judge)\n	Ben Eldredge (Kendall County Commissioner\, Precinct 3)\n	Richard Chapman\, (Kendall County Commissioner\, Precinct 3)\n	Judge Darrel Lux\,(Incumbent\, Kendall County Judge)\n	Andy McCall\, (Kendall County Judge)\n	Rebecca Martinez\, (Incumbent\, 4th Court of Appeals\, District 7)
X-ALT-DESC;FMTTYPE=text/html:Join us for a Pre-November Election Candidate Forum.<br />\nKendall County candidates will be answering questions posed to them on a number of issues from the Chamber&#39\;s recent Legislative Agenda survey.<br />\n<br />\nCandidates in attendance will include:\n<ul>\n	<li>Nicole Bishop (Kendall County District Attorney)</li>\n	<li>Kirsten Cohoon (Kendall County District Judge)</li>\n	<li>Ben Eldredge (Kendall County Commissioner\, Precinct 3)</li>\n	<li>Richard Chapman\, (Kendall County Commissioner\, Precinct 3)</li>\n	<li>Judge Darrel Lux\,(Incumbent\, Kendall County Judge)</li>\n	<li>Andy McCall\, (Kendall County Judge)</li>\n	<li>Rebecca Martinez\, (Incumbent\, 4th Court of Appeals\, District 7)</li>\n</ul>\n
LOCATION:Kronkosky Place\, 17 Old San Antonio Road\, Boerne\, TX 78006
UID:e.187.15122
SEQUENCE:3
DTSTAMP:20260420T013421Z
URL:https://business.boerne.org/events/details/boerne-chamber-of-commerce-candidate-forum-15122
END:VEVENT

END:VCALENDAR
