BEGIN:VCALENDAR
VERSION:2.0
PRODID:-//ChamberMaster//Event Calendar 2.0//EN
METHOD:PUBLISH
X-PUBLISHED-TTL:P3D
REFRESH-INTERVAL:P3D
CALSCALE:GREGORIAN
BEGIN:VEVENT
DTSTART:20191030T140000Z
DTEND:20191030T220000Z
X-MICROSOFT-CDO-ALLDAYEVENT:FALSE
SUMMARY:Boerne Business Conference - Presented by Frost Bank
DESCRIPTION:Are you an entrepreneur\, small business owner or manager? Are you ready to grow your business and improve your leadership skills? Register today for the 3rd Annual Boerne Business Conference\, presented by Frost Bank!\n\n\n\nThis intimate\, one-day conference includes a notable lineup of speakers that will give you real\, actionable solutions to the most pressing issues you're facing in both your business and personal life.\n\n\n\n2019 SPEAKER LINEUP\n\nKeynote Speakers\n\n	Rob Wicall Former San Antonio Spurs Coyote\, Entrepreneur\, Speaker\, Writer\, and Connection Coach\n	Tomas Martinez Owner & Publisher at Luxury Home Magazine San Antonio\,  Speaker and Coach\n\nBreakout Session Speakers\n\n\n	Stephanie Scheller Founder at Grow Disrupt\, Best-Selling Author and Business Consultant\n	Darren Boarnet Former Human Resources Director at Tesoro and Marathon Oil\n	Aquila Mendez-Valdez Owner of Haute in Texas Public Relations\n	Elizabeth Costello Former VP of SA Development Foundation and Former Director of International Affairs for the City of San Antonio\n	Tom Ervin Computer Scientist at FBI San Antonio Division\n	Patrick Walther Founder of Tenon Digital and Former Director of eCommerce at H-E-B\n	Jeff Goldblatt Former Anchor/Managing Editor at KENS-TV\, Former VP of Marketing at the Witte Museum\n	Cayman Gentry Vice President of Corporate Banking at Frost Bank Boerne\n	Kim Blohm President & CEO at The Greater Boerne Chamber of Commerce\n\nCheck out some highlights of 2018's Boerne Business Conference in the video below!
X-ALT-DESC;FMTTYPE=text/html:Are you an entrepreneur\, small business owner or manager? Are you ready to grow your business and improve your leadership skills? Register today for the 3rd Annual Boerne Business Conference\, presented by Frost Bank!<br />\n<br />\nThis intimate\, one-day conference includes a notable lineup of speakers that will give you real\, actionable solutions to the most pressing issues you&#39\;re facing in both your business and personal life.<br />\n<br />\n<strong>2019 SPEAKER LINEUP<br />\nKeynote Speakers</strong>\n<ul>\n	<li><strong>Rob Wicall&nbsp\;</strong><em>Former San Antonio Spurs Coyote\,&nbsp\;Entrepreneur\, Speaker\, Writer\, and Connection Coach</em></li>\n	<li><strong>Tomas Martinez </strong><em>Owner &amp\; Publisher at Luxury Home Magazine San Antonio\, &#8203\;Speaker and Coach</em></li>\n</ul>\n<strong>Breakout Session Speakers</strong>\n\n<ul>\n	<li><strong>Stephanie Scheller</strong> <em>Founder at Grow Disrupt\, Best-Selling Author and Business Consultant</em></li>\n	<li><strong>Darren Boarnet</strong><em> Former Human Resources Director at Tesoro and Marathon Oil</em></li>\n	<li><strong>Aquila Mendez-Valdez</strong><em> Owner of Haute in Texas Public Relations</em></li>\n	<li><strong>Elizabeth Costello </strong><em>Former VP of SA Development Foundation and Former Director of International Affairs for the City of San Antonio</em></li>\n	<li><strong>Tom Ervin </strong><em>Computer Scientist at FBI San Antonio Division</em></li>\n	<li><strong>Patrick Walther</strong> <em>Founder of Tenon Digital and Former Director of eCommerce at H-E-B</em></li>\n	<li><strong>Jeff Goldblatt</strong> <em>Former Anchor/Managing Editor at KENS-TV\, Former VP of Marketing at the Witte Museum</em></li>\n	<li><strong>Cayman Gentry</strong><em> Vice President of Corporate Banking at Frost Bank Boerne</em></li>\n	<li><strong>Kim Blohm</strong><em> President &amp\; CEO at The Greater Boerne Chamber of Commerce</em></li>\n</ul>\n<b>Check out some highlights of 2018&#39\;s Boerne Business Conference in the video below!</b><br />\n&nbsp\;<iframe allow="accelerometer\; autoplay\; encrypted-media\; gyroscope\; picture-in-picture" allowfullscreen="" frameborder="0" height="315" src="https://www.youtube.com/embed/ndF1r5MA9DQ" width="560"></iframe>
LOCATION:The Bevy Hotel Boerne
UID:e.187.13955
SEQUENCE:3
DTSTAMP:20260419T191925Z
URL:https://business.boerne.org/events/details/boerne-business-conference-presented-by-frost-bank-13955
END:VEVENT

END:VCALENDAR
