BEGIN:VCALENDAR
VERSION:2.0
PRODID:-//ChamberMaster//Event Calendar 2.0//EN
METHOD:PUBLISH
X-PUBLISHED-TTL:P3D
REFRESH-INTERVAL:P3D
CALSCALE:GREGORIAN
BEGIN:VEVENT
DTSTART:20240912T210000Z
DTEND:20240912T230000Z
X-MICROSOFT-CDO-ALLDAYEVENT:FALSE
SUMMARY:Boerne After Hours Mixer - Hosted by United Texas Credit Union
DESCRIPTION:Join us for a Boerne After Hours Mixer hosted by United Texas Credit Union on Thursday\, September 12th at 4-6pm! United Texas Credit Union is located at 1440 S. Main St.\, Boerne\, TX 78006\n\n\n\nOur After Hours Mixers offer an opportunity for professionals and entrepreneurs to gather for an evening of networking\, collaboration\, and community building. Whether you're a seasoned business owner or just starting out\, our mixers offer a welcoming atmosphere where you can exchange ideas\, share experiences\, and strengthen your professional network. \n\n\n\nJoin us at our next mixer and watch your business connections flourish!\n\n\n\nMixers are free for all Chamber Members to attend\, but we do ask that you RSVP ahead of time to steely@boerne.org (not required).
X-ALT-DESC;FMTTYPE=text/html:<span style="color: rgb(117\, 120\, 125)\; font-family: OpenSans\, Helvetica\, Arial\, sans-serif\; font-size: 16px\;">Join us for a Boerne After Hours Mixer hosted by United Texas Credit Union on Thursday\, September 12th at 4-6pm! United Texas Credit Union is located at 1440 S. Main St.\, Boerne\, TX 78006</span><br style="box-sizing: border-box\; color: rgb(117\, 120\, 125)\; font-family: OpenSans\, Helvetica\, Arial\, sans-serif\; font-size: 16px\;" />\n<br style="box-sizing: border-box\; color: rgb(117\, 120\, 125)\; font-family: OpenSans\, Helvetica\, Arial\, sans-serif\; font-size: 16px\;" />\n<span style="color: rgb(117\, 120\, 125)\; font-family: OpenSans\, Helvetica\, Arial\, sans-serif\; font-size: 16px\;">Our After Hours Mixers offer an opportunity for professionals&nbsp\;and entrepreneurs&nbsp\;to gather for an evening of networking\, collaboration\, and community building. Whether you&#39\;re a seasoned business owner or just starting out\, our mixers offer a welcoming atmosphere where you can exchange ideas\, share experiences\, and strengthen your professional network.&nbsp\;</span><br style="box-sizing: border-box\; color: rgb(117\, 120\, 125)\; font-family: OpenSans\, Helvetica\, Arial\, sans-serif\; font-size: 16px\;" />\n<br style="box-sizing: border-box\; color: rgb(117\, 120\, 125)\; font-family: OpenSans\, Helvetica\, Arial\, sans-serif\; font-size: 16px\;" />\n<span style="color: rgb(117\, 120\, 125)\; font-family: OpenSans\, Helvetica\, Arial\, sans-serif\; font-size: 16px\;">Join us at our next mixer and watch your business connections flourish!</span><br style="box-sizing: border-box\; color: rgb(117\, 120\, 125)\; font-family: OpenSans\, Helvetica\, Arial\, sans-serif\; font-size: 16px\;" />\n<br style="box-sizing: border-box\; color: rgb(117\, 120\, 125)\; font-family: OpenSans\, Helvetica\, Arial\, sans-serif\; font-size: 16px\;" />\n<span style="color: rgb(117\, 120\, 125)\; font-family: OpenSans\, Helvetica\, Arial\, sans-serif\; font-size: 16px\;">Mixers are free for all Chamber Members to attend\, but we do ask that you RSVP ahead of time to steely@boerne.org (not required).</span>
LOCATION:United Texas Credit Union 1440 S Main St Boerne\, TX. 78006
UID:e.187.24622
SEQUENCE:3
DTSTAMP:20260419T181539Z
URL:https://business.boerne.org/events/details/boerne-after-hours-mixer-hosted-by-united-texas-credit-union-24622
END:VEVENT

END:VCALENDAR
