BEGIN:VCALENDAR
VERSION:2.0
PRODID:-//ChamberMaster//Event Calendar 2.0//EN
METHOD:PUBLISH
X-PUBLISHED-TTL:P3D
REFRESH-INTERVAL:P3D
CALSCALE:GREGORIAN
BEGIN:VEVENT
DTSTART:20240926T210000Z
DTEND:20240926T230000Z
X-MICROSOFT-CDO-ALLDAYEVENT:FALSE
SUMMARY:Boerne After Hours Mixer - Hosted by The Kendall County Youth Agriculture and Equestrian Center
DESCRIPTION:Join us for a Boerne After Hours Mixer hosted by The Kendall County Youth Agriculture and Equestrian Center on Thursday\, September 26th at 4-6pm! The Kendall County Youth Agriculture and Equestrian Center is located at 648 FM 289\, Comfort\, TX 78013.\n\n\n\nOur After Hours Mixers offer an opportunity for professionals and entrepreneurs to gather for an evening of networking\, collaboration\, and community building. Whether you're a seasoned business owner or just starting out\, our mixers offer a welcoming atmosphere where you can exchange ideas\, share experiences\, and strengthen your professional network. \n\n\n\nJoin us at our next mixer and watch your business connections flourish!\n\n\n\nMixers are free for all Chamber Members to attend\, but we do ask that you RSVP ahead of time to steely@boerne.org (not required).
X-ALT-DESC;FMTTYPE=text/html:<span style="font-size:14px\;"><span style="color:#000000\;"><span style="font-family: OpenSans\, Helvetica\, Arial\, sans-serif\;">Join us for a Boerne After Hours Mixer hosted by The Kendall County Youth Agriculture and Equestrian Center on Thursday\, September 26th at 4-6pm! The Kendall County Youth Agriculture and Equestrian Center is located at 648 FM 289\, Comfort\, TX 78013.</span><br style="box-sizing: border-box\; color: rgb(117\, 120\, 125)\; font-family: OpenSans\, Helvetica\, Arial\, sans-serif\; font-size: 16px\;" />\n<br style="box-sizing: border-box\; color: rgb(117\, 120\, 125)\; font-family: OpenSans\, Helvetica\, Arial\, sans-serif\; font-size: 16px\;" />\n<span style="font-family: OpenSans\, Helvetica\, Arial\, sans-serif\;">Our After Hours Mixers offer an opportunity for professionals&nbsp\;and entrepreneurs&nbsp\;to gather for an evening of networking\, collaboration\, and community building. Whether you&#39\;re a seasoned business owner or just starting out\, our mixers offer a welcoming atmosphere where you can exchange ideas\, share experiences\, and strengthen your professional network.&nbsp\;</span><br style="box-sizing: border-box\; color: rgb(117\, 120\, 125)\; font-family: OpenSans\, Helvetica\, Arial\, sans-serif\; font-size: 16px\;" />\n<br style="box-sizing: border-box\; color: rgb(117\, 120\, 125)\; font-family: OpenSans\, Helvetica\, Arial\, sans-serif\; font-size: 16px\;" />\n<span style="font-family: OpenSans\, Helvetica\, Arial\, sans-serif\;">Join us at our next mixer and watch your business connections flourish!</span><br style="box-sizing: border-box\; color: rgb(117\, 120\, 125)\; font-family: OpenSans\, Helvetica\, Arial\, sans-serif\; font-size: 16px\;" />\n<br style="box-sizing: border-box\; color: rgb(117\, 120\, 125)\; font-family: OpenSans\, Helvetica\, Arial\, sans-serif\; font-size: 16px\;" />\n<span style="font-family: OpenSans\, Helvetica\, Arial\, sans-serif\;">Mixers are free for all Chamber Members to attend\, but we do ask that you RSVP ahead of time to steely@boerne.org (not required).</span></span></span>
LOCATION:The Kendall County Youth Agriculture and Equestrian Center 648 FM 289 Comfort\, TX 78013
UID:e.187.28530
SEQUENCE:3
DTSTAMP:20260419T181722Z
URL:https://business.boerne.org/events/details/boerne-after-hours-mixer-hosted-by-the-kendall-county-youth-agriculture-and-equestrian-center-28530
END:VEVENT

END:VCALENDAR
