BEGIN:VCALENDAR
VERSION:2.0
PRODID:-//ChamberMaster//Event Calendar 2.0//EN
METHOD:PUBLISH
X-PUBLISHED-TTL:P3D
REFRESH-INTERVAL:P3D
CALSCALE:GREGORIAN
BEGIN:VEVENT
DTSTART:20251211T220000Z
DTEND:20251212T000000Z
X-MICROSOFT-CDO-ALLDAYEVENT:FALSE
SUMMARY:Boerne After Hours Mixer - Co-Hosted by Lovorn Law Firm and Transformation House
DESCRIPTION:Join us for a Boerne After Hours Mixer co-hosted by Lovorn Law Firm and Transformation House on Thursday\, December 11th at 4-6pm! Lovorn Law Firm is located at 705 S Main St\, Boerne\, TX 78006\n\n\n\nOur After Hours Mixers offer an opportunity for professionals and entrepreneurs to gather for an evening of networking\, collaboration\, and community building. Whether you're a seasoned business owner or just starting out\, our mixers offer a welcoming atmosphere where you can exchange ideas\, share experiences\, and strengthen your professional network. \n\n\n\nJoin us at our next mixer and watch your business connections flourish!\n\n\n\nMixers are free for all Chamber Members to attend\, but we do ask that you RSVP ahead of time to steely@boerne.org (not required).
X-ALT-DESC;FMTTYPE=text/html:<span style="color:#000000\;"><span style="font-family:arial\;"><span style="font-size:14px\;">Join us for a Boerne After Hours Mixer co-hosted by Lovorn Law Firm and Transformation House on Thursday\, December 11th at 4-6pm! Lovorn Law Firm is located at 705 S Main St\, Boerne\, TX 78006<br style="box-sizing: border-box\; color: rgb(117\, 120\, 125)\; font-family: OpenSans\, Helvetica\, Arial\, sans-serif\; font-size: 16px\;" />\n<br style="box-sizing: border-box\; color: rgb(117\, 120\, 125)\; font-family: OpenSans\, Helvetica\, Arial\, sans-serif\; font-size: 16px\;" />\nOur After Hours Mixers offer an opportunity for professionals&nbsp\;and entrepreneurs&nbsp\;to gather for an evening of networking\, collaboration\, and community building. Whether you&#39\;re a seasoned business owner or just starting out\, our mixers offer a welcoming atmosphere where you can exchange ideas\, share experiences\, and strengthen your professional network.&nbsp\;<br style="box-sizing: border-box\; color: rgb(117\, 120\, 125)\; font-family: OpenSans\, Helvetica\, Arial\, sans-serif\; font-size: 16px\;" />\n<br style="box-sizing: border-box\; color: rgb(117\, 120\, 125)\; font-family: OpenSans\, Helvetica\, Arial\, sans-serif\; font-size: 16px\;" />\nJoin us at our next mixer and watch your business connections flourish!<br style="box-sizing: border-box\; color: rgb(117\, 120\, 125)\; font-family: OpenSans\, Helvetica\, Arial\, sans-serif\; font-size: 16px\;" />\n<br style="box-sizing: border-box\; color: rgb(117\, 120\, 125)\; font-family: OpenSans\, Helvetica\, Arial\, sans-serif\; font-size: 16px\;" />\nMixers are free for all Chamber Members to attend\, but we do ask that you RSVP ahead of time to steely@boerne.org (not required).</span></span></span>
LOCATION:Lovorn Law Firm 705 S. Main St. Boerne\, TX. 78006
UID:e.187.31795
SEQUENCE:3
DTSTAMP:20260420T020940Z
URL:https://business.boerne.org/events/details/boerne-after-hours-mixer-co-hosted-by-lovorn-law-firm-and-transformation-house-31795
END:VEVENT

END:VCALENDAR
