BEGIN:VCALENDAR
VERSION:2.0
PRODID:-//ChamberMaster//Event Calendar 2.0//EN
METHOD:PUBLISH
X-PUBLISHED-TTL:P3D
REFRESH-INTERVAL:P3D
CALSCALE:GREGORIAN
BEGIN:VEVENT
DTSTART:20180927T220000Z
DTEND:20180928T000000Z
X-MICROSOFT-CDO-ALLDAYEVENT:FALSE
SUMMARY:Boerne After 5 - sponsored by University Bowl
DESCRIPTION:Please join us for the next Boerne After 5 - Networking Mixer sponsored by University Bowl!
X-ALT-DESC;FMTTYPE=text/html:Please join us for the next Boerne After 5 - Networking Mixer sponsored by <a href="http://www.ubbowl.com/" target="_blank">University Bowl</a>!
LOCATION:University Bowl 12332 Interstate 10 Frontage Rd #10 San Antonio\, TX 78230
UID:e.187.12043
SEQUENCE:3
DTSTAMP:20260420T042440Z
URL:https://business.boerne.org/events/details/boerne-after-5-sponsored-by-university-bowl-12043
END:VEVENT

END:VCALENDAR
