BEGIN:VCALENDAR
VERSION:2.0
PRODID:-//ChamberMaster//Event Calendar 2.0//EN
METHOD:PUBLISH
X-PUBLISHED-TTL:P3D
REFRESH-INTERVAL:P3D
CALSCALE:GREGORIAN
BEGIN:VEVENT
DTSTART:20180125T230000Z
DTEND:20180126T010000Z
X-MICROSOFT-CDO-ALLDAYEVENT:FALSE
SUMMARY:Boerne After 5 - Sponsored by the Isle at Watercrest
DESCRIPTION:Please join at the Boerne After 5 - Networking Mixer at Dominion's latest luxury residence - the Isle at Watercrest  Dominion
X-ALT-DESC;FMTTYPE=text/html:Please join at the Boerne After 5 - Networking Mixer at Dominion&#39\;s&nbsp\;latest luxury residence - <a href="http://www.watercrestdominion.com/" target="_blank">the Isle at Watercrest&nbsp\;&nbsp\;Dominion</a>
LOCATION:The Isle at Watercrest 6906 Heuermann Rd\, San Antonio\, TX 78256
UID:e.187.12033
SEQUENCE:3
DTSTAMP:20260422T153952Z
URL:https://business.boerne.org/events/details/boerne-after-5-sponsored-by-the-isle-at-watercrest-12033
END:VEVENT

END:VCALENDAR
