BEGIN:VCALENDAR
VERSION:2.0
PRODID:-//ChamberMaster//Event Calendar 2.0//EN
METHOD:PUBLISH
X-PUBLISHED-TTL:P3D
REFRESH-INTERVAL:P3D
CALSCALE:GREGORIAN
BEGIN:VEVENT
DTSTART:20180913T220000Z
DTEND:20180914T000000Z
X-MICROSOFT-CDO-ALLDAYEVENT:FALSE
SUMMARY:Boerne After 5 - Sponsored by Rock Pharmacy\, Trinity Vision & Promptu
DESCRIPTION:Networking is part of growing your business. Join us for our Business After 5 Mixer sponsored by Rock Pharmacy LLC\, Trinity Vision Center and Promptu Immediate Care
X-ALT-DESC;FMTTYPE=text/html:Networking is part of growing your business. Join us for our Business After 5 Mixer sponsored by Rock Pharmacy LLC\, Trinity Vision Center and Promptu Immediate Care
LOCATION:Rock Pharmacy\, Trinity Vision Center and Promptu Immediate Care 1201 S. Main Street\, Boerne\, TX
UID:e.187.14857
SEQUENCE:3
DTSTAMP:20260420T030326Z
URL:https://business.boerne.org/events/details/boerne-after-5-sponsored-by-rock-pharmacy-trinity-vision-promptu-14857
END:VEVENT

END:VCALENDAR
