BEGIN:VCALENDAR
VERSION:2.0
PRODID:-//ChamberMaster//Event Calendar 2.0//EN
METHOD:PUBLISH
X-PUBLISHED-TTL:P3D
REFRESH-INTERVAL:P3D
CALSCALE:GREGORIAN
BEGIN:VEVENT
DTSTART:20180208T230000Z
DTEND:20180209T010000Z
X-MICROSOFT-CDO-ALLDAYEVENT:FALSE
SUMMARY:Boerne After 5 - Sponsored by Phyllis Browning Co.
DESCRIPTION:Join us for the next Boerne After 5 - Networking Mixer sponsored by Phyllis Browning Co. Real Estate
X-ALT-DESC;FMTTYPE=text/html:Join us for the next Boerne After 5 - Networking Mixer sponsored by <a href="https://www.phyllisbrowning.com" target="_blank">Phyllis Browning Co. Real Estate</a>
LOCATION:Phyllis Browning Co. 210 E. Blanco Rd. Boerne\, TX 78006
UID:e.187.12034
SEQUENCE:3
DTSTAMP:20260422T134346Z
URL:https://business.boerne.org/events/details/boerne-after-5-sponsored-by-phyllis-browning-co-12034
END:VEVENT

END:VCALENDAR
