BEGIN:VCALENDAR
VERSION:2.0
PRODID:-//ChamberMaster//Event Calendar 2.0//EN
METHOD:PUBLISH
X-PUBLISHED-TTL:P3D
REFRESH-INTERVAL:P3D
CALSCALE:GREGORIAN
BEGIN:VEVENT
DTSTART:20180222T230000Z
DTEND:20180223T010000Z
X-MICROSOFT-CDO-ALLDAYEVENT:FALSE
SUMMARY:Boerne After 5 - sponsored by Jennings Anderson Ford
DESCRIPTION:Join us for our next Boerne After 5 - Networking Mixer at Jennings Anderson Ford on February 22\, 2018 from 5-7pm.
X-ALT-DESC;FMTTYPE=text/html:Join us for our next Boerne After 5 - Networking Mixer at <a href="http://jenningsandersonford.com/" target="_blank">Jennings Anderson&nbsp\;Ford</a> on February 22\, 2018 from 5-7pm.
LOCATION:Jennings Anderson Ford 31480 Interstate 10 Frontage Rd\, Boerne\, TX 78006
UID:e.187.12035
SEQUENCE:3
DTSTAMP:20260422T134701Z
URL:https://business.boerne.org/events/details/boerne-after-5-sponsored-by-jennings-anderson-ford-12035
END:VEVENT

END:VCALENDAR
