BEGIN:VCALENDAR
VERSION:2.0
PRODID:-//ChamberMaster//Event Calendar 2.0//EN
METHOD:PUBLISH
X-PUBLISHED-TTL:P3D
REFRESH-INTERVAL:P3D
CALSCALE:GREGORIAN
BEGIN:VEVENT
DTSTART:20180308T230000Z
DTEND:20180309T010000Z
X-MICROSOFT-CDO-ALLDAYEVENT:FALSE
SUMMARY:Boerne After 5 - sponsored by Javelina Harley
DESCRIPTION:Join us for the next Boerne After 5 - Networking Mixer at Javelina Harley.
X-ALT-DESC;FMTTYPE=text/html:Join us for the next Boerne After 5 - Networking Mixer at Javelina Harley.
LOCATION:29078 Interstate 10 Frontage Rd\, Boerne\, TX 78006
UID:e.187.12069
SEQUENCE:3
DTSTAMP:20260422T121420Z
URL:https://business.boerne.org/events/details/boerne-after-5-sponsored-by-javelina-harley-12069
END:VEVENT

END:VCALENDAR
