BEGIN:VCALENDAR
VERSION:2.0
PRODID:-//ChamberMaster//Event Calendar 2.0//EN
METHOD:PUBLISH
X-PUBLISHED-TTL:P3D
REFRESH-INTERVAL:P3D
CALSCALE:GREGORIAN
BEGIN:VEVENT
DTSTART:20180712T220000Z
DTEND:20180713T000000Z
X-MICROSOFT-CDO-ALLDAYEVENT:FALSE
SUMMARY:Boerne After 5- sponsored by Isle at Watercrest
DESCRIPTION:Please join at the Boerne After 5 - Networking Mixer at Dominion's latest luxury residence - the Isle at Watercrest  Dominion
X-ALT-DESC;FMTTYPE=text/html:Please join at the Boerne After 5 - Networking Mixer at Dominion&#39\;s&nbsp\;latest luxury residence -&nbsp\;<a href="http://www.watercrestdominion.com/" target="_blank">the Isle at&nbsp\;Watercrest&nbsp\;&nbsp\;Dominion</a>
LOCATION:The Isle at Watercrest 6906 Heuermann Rd\, San Antonio\, TX 78256
UID:e.187.12042
SEQUENCE:3
DTSTAMP:20260420T074523Z
URL:https://business.boerne.org/events/details/boerne-after-5-sponsored-by-isle-at-watercrest-12042
END:VEVENT

END:VCALENDAR
