BEGIN:VCALENDAR
VERSION:2.0
PRODID:-//ChamberMaster//Event Calendar 2.0//EN
METHOD:PUBLISH
X-PUBLISHED-TTL:P3D
REFRESH-INTERVAL:P3D
CALSCALE:GREGORIAN
BEGIN:VEVENT
DTSTART:20180628T220000Z
DTEND:20180629T000000Z
X-MICROSOFT-CDO-ALLDAYEVENT:FALSE
SUMMARY:Boerne After 5 - sponsored by BHS Physicians Network
DESCRIPTION:Please join us for the next Boerne After 5 - Networking Mixer sponsored by BHS Physicians Network
X-ALT-DESC;FMTTYPE=text/html:Please join us for the next Boerne After 5 - Networking Mixer sponsored by <a href="http://bhsphysiciansnetwork.com/" target="_blank">BHS Physicians Network</a>
LOCATION:BHS Physicians Network 116 W. Blanco Ste. 301 Boerne\,TX 78006
UID:e.187.12041
SEQUENCE:3
DTSTAMP:20260420T074321Z
URL:https://business.boerne.org/events/details/boerne-after-5-sponsored-by-bhs-physicians-network-12041
END:VEVENT

END:VCALENDAR
