BEGIN:VCALENDAR
VERSION:2.0
PRODID:-//ChamberMaster//Event Calendar 2.0//EN
METHOD:PUBLISH
X-PUBLISHED-TTL:P3D
REFRESH-INTERVAL:P3D
CALSCALE:GREGORIAN
BEGIN:VEVENT
DTSTART:20181025T220000Z
DTEND:20181026T000000Z
X-MICROSOFT-CDO-ALLDAYEVENT:FALSE
SUMMARY:Boerne After 5 - sponsored by Bending Branch Winery
DESCRIPTION:Please join us for the next Boerne After 5 - Networking Mixer sponsored by Bending Branch Winery
X-ALT-DESC;FMTTYPE=text/html:Please join us for the next Boerne After 5 - Networking Mixer sponsored by <a href="http://www.bendingbranchwinery.com/" target="_blank">Bending Branch Winery</a>
LOCATION:Bending Branch Winery 142 Lindner Branch Trail Comfort\, TX 78013
UID:e.187.12045
SEQUENCE:3
DTSTAMP:20260420T013427Z
URL:https://business.boerne.org/events/details/boerne-after-5-sponsored-by-bending-branch-winery-12045
END:VEVENT

END:VCALENDAR
