BEGIN:VCALENDAR
VERSION:2.0
PRODID:-//ChamberMaster//Event Calendar 2.0//EN
METHOD:PUBLISH
X-PUBLISHED-TTL:P3D
REFRESH-INTERVAL:P3D
CALSCALE:GREGORIAN
BEGIN:VEVENT
DTSTART:20190509T220000Z
DTEND:20190510T000000Z
X-MICROSOFT-CDO-ALLDAYEVENT:FALSE
SUMMARY:Boerne After 5 Mixer Sponsored by Phyllis Browning Company
DESCRIPTION:Come mix\, mingle and network at the Boerne After 5 Mixer hosted by Phyllis Browning Co!
X-ALT-DESC;FMTTYPE=text/html:Come mix\, mingle and network at the Boerne After 5 Mixer hosted by Phyllis Browning Co!
LOCATION:Phyllis Browning Co. 711 S. Main St. Boerne\, TX 78006
UID:e.187.14864
SEQUENCE:3
DTSTAMP:20260419T143747Z
URL:https://business.boerne.org/events/details/boerne-after-5-mixer-sponsored-by-phyllis-browning-company-14864
END:VEVENT

END:VCALENDAR
