BEGIN:VCALENDAR
VERSION:2.0
PRODID:-//ChamberMaster//Event Calendar 2.0//EN
METHOD:PUBLISH
X-PUBLISHED-TTL:P3D
REFRESH-INTERVAL:P3D
CALSCALE:GREGORIAN
BEGIN:VEVENT
DTSTART:20190523T220000Z
DTEND:20190524T000000Z
X-MICROSOFT-CDO-ALLDAYEVENT:FALSE
SUMMARY:Boerne After 5 Mixer Sponsored by Emerald Homes
DESCRIPTION:Come mix and mingle with Chamber members at the Boerne After 5 Mixer sponsored by Emerald Homes!
X-ALT-DESC;FMTTYPE=text/html:Come mix and mingle with Chamber members at the Boerne After 5 Mixer sponsored by Emerald Homes!<br />\n&nbsp\;
LOCATION:Emerald Homes 8209 Morro Hill Boerne\, TX 78015
UID:e.187.14829
SEQUENCE:3
DTSTAMP:20260419T143507Z
URL:https://business.boerne.org/events/details/boerne-after-5-mixer-sponsored-by-emerald-homes-14829
END:VEVENT

END:VCALENDAR
