BEGIN:VCALENDAR
VERSION:2.0
PRODID:-//ChamberMaster//Event Calendar 2.0//EN
METHOD:PUBLISH
X-PUBLISHED-TTL:P3D
REFRESH-INTERVAL:P3D
CALSCALE:GREGORIAN
BEGIN:VEVENT
DTSTART:20190725T220000Z
DTEND:20190726T000000Z
X-MICROSOFT-CDO-ALLDAYEVENT:FALSE
SUMMARY:Boerne After 5 Mixer Sponsored by Box Drop Mattress and More
DESCRIPTION:Come mix\, mingle and network with your fellow Chamber Members at the Boerne After 5 Mixer hosted by Box Drop Mattress and More!
X-ALT-DESC;FMTTYPE=text/html:Come mix\, mingle and network with your fellow Chamber Members at the Boerne After 5 Mixer hosted by <a href="https://business.boerne.org/list/member/box-drop-mattress-more-14617">Box Drop Mattress and More</a>!
LOCATION:28765 IH 10 W.\, Ste. 101 Boerne\, TX 78006
UID:e.187.14859
SEQUENCE:3
DTSTAMP:20260419T143644Z
URL:https://business.boerne.org/events/details/boerne-after-5-mixer-sponsored-by-box-drop-mattress-and-more-14859
END:VEVENT

END:VCALENDAR
