BEGIN:VCALENDAR
VERSION:2.0
PRODID:-//ChamberMaster//Event Calendar 2.0//EN
METHOD:PUBLISH
X-PUBLISHED-TTL:P3D
REFRESH-INTERVAL:P3D
CALSCALE:GREGORIAN
BEGIN:VEVENT
DTSTART:20190328T220000Z
DTEND:20190329T000000Z
X-MICROSOFT-CDO-ALLDAYEVENT:FALSE
SUMMARY:Boerne After 5 Mixer - Presented by Sisterdale Dance Hall
DESCRIPTION:Come mix\, mingle and network at the Boerne After 5 Mixer hosted by Sisterdale Dance Hall.
X-ALT-DESC;FMTTYPE=text/html:Come mix\, mingle and network at the Boerne After 5 Mixer hosted by Sisterdale Dance Hall.
LOCATION:Sisterdale Dance Hall 1210 Sisterdale Road\, Sisterdale\, TX 78006 (map)
UID:e.187.14862
SEQUENCE:3
DTSTAMP:20260419T191732Z
URL:https://business.boerne.org/events/details/boerne-after-5-mixer-presented-by-sisterdale-dance-hall-14862
END:VEVENT

END:VCALENDAR
