BEGIN:VCALENDAR
VERSION:2.0
PRODID:-//ChamberMaster//Event Calendar 2.0//EN
METHOD:PUBLISH
X-PUBLISHED-TTL:P3D
REFRESH-INTERVAL:P3D
CALSCALE:GREGORIAN
BEGIN:VEVENT
DTSTART:20190411T220000Z
DTEND:20190412T000000Z
X-MICROSOFT-CDO-ALLDAYEVENT:FALSE
SUMMARY:Boerne After 5 Mixer - Presented by Prime Capital Investment Advisors
DESCRIPTION:Come mix and mingle with your fellow Boerne Chamber Members at a Boerne After 5 Mixer\, presented by Prime Capital Investment Advisors.
X-ALT-DESC;FMTTYPE=text/html:Come mix and mingle with your fellow Boerne Chamber Members at a Boerne After 5 Mixer\, presented by Prime Capital Investment Advisors.
LOCATION:Prime Capital Investment Advisors\, LLC. 616 E. Blanco Rd. Ste. 201 A Boerne\, TX 78006
UID:e.187.13673
SEQUENCE:3
DTSTAMP:20260419T161305Z
URL:https://business.boerne.org/events/details/boerne-after-5-mixer-presented-by-prime-capital-investment-advisors-13673
END:VEVENT

END:VCALENDAR
