BEGIN:VCALENDAR
VERSION:2.0
PRODID:-//ChamberMaster//Event Calendar 2.0//EN
METHOD:PUBLISH
X-PUBLISHED-TTL:P3D
REFRESH-INTERVAL:P3D
CALSCALE:GREGORIAN
BEGIN:VEVENT
DTSTART:20190221T230000Z
DTEND:20190222T010000Z
X-MICROSOFT-CDO-ALLDAYEVENT:FALSE
SUMMARY:Boerne After 5 Mixer - Presented by Office Box Boerne
DESCRIPTION:Join us for a Boerne After 5 Mixer\, presented by Office Box Boerne!
X-ALT-DESC;FMTTYPE=text/html:Join us for a Boerne After 5 Mixer\, presented by Office Box Boerne!
LOCATION:Office Box Boerne 1415 E. Blanco Rd. #8 Boerne\, TX 78006
UID:e.187.15551
SEQUENCE:3
DTSTAMP:20260419T204720Z
URL:https://business.boerne.org/events/details/boerne-after-5-mixer-presented-by-office-box-boerne-15551
END:VEVENT

END:VCALENDAR
