BEGIN:VCALENDAR
VERSION:2.0
PRODID:-//ChamberMaster//Event Calendar 2.0//EN
METHOD:PUBLISH
X-PUBLISHED-TTL:P3D
REFRESH-INTERVAL:P3D
CALSCALE:GREGORIAN
BEGIN:VEVENT
DTSTART:20190627T220000Z
DTEND:20190628T000000Z
X-MICROSOFT-CDO-ALLDAYEVENT:FALSE
SUMMARY:Boerne After 5 Mixer - Presented by Hampton Inn & Suites Boerne
DESCRIPTION:Join us for a Boerne After 5 Mixer presented by Hampton Inn & Suites Boerne! Mix and mingle with your fellow Chamber members and enjoy food and drinks.
X-ALT-DESC;FMTTYPE=text/html:Join us for a Boerne After 5 Mixer presented by Hampton Inn &amp\; Suites Boerne! Mix and mingle with your fellow Chamber members and enjoy food and drinks.
LOCATION:Hampton Inn & Suites Boerne 34935 I-10 Boerne\, TX 78006
UID:e.187.15158
SEQUENCE:3
DTSTAMP:20260419T143623Z
URL:https://business.boerne.org/events/details/boerne-after-5-mixer-presented-by-hampton-inn-suites-boerne-15158
END:VEVENT

END:VCALENDAR
