BEGIN:VCALENDAR
VERSION:2.0
PRODID:-//ChamberMaster//Event Calendar 2.0//EN
METHOD:PUBLISH
X-PUBLISHED-TTL:P3D
REFRESH-INTERVAL:P3D
CALSCALE:GREGORIAN
BEGIN:VEVENT
DTSTART:20190425T220000Z
DTEND:20190426T000000Z
X-MICROSOFT-CDO-ALLDAYEVENT:FALSE
SUMMARY:Boerne After 5 Mixer - Presented by Eagle Dancer Ranch
DESCRIPTION:Come mix\, mingle and network at the Boerne After 5 Mixer hosted by Eagle Dancer Ranch.
X-ALT-DESC;FMTTYPE=text/html:Come mix\, mingle and network at the Boerne After 5 Mixer hosted by Eagle Dancer Ranch.
LOCATION:Eagle Dancer Ranch 1621 FM 473 Sisterdale\, TX 78006
UID:e.187.14863
SEQUENCE:3
DTSTAMP:20260419T160703Z
URL:https://business.boerne.org/events/details/boerne-after-5-mixer-presented-by-eagle-dancer-ranch-14863
END:VEVENT

END:VCALENDAR
